BEGIN:VCALENDAR
VERSION:2.0
PRODID:-//hacksw/handcal//NONSGML v1.0//EN
BEGIN:VEVENT
SUMMARY:Centre aeree Futuna
UID:87b76f7d-6a92-4eb6-be47-2f2850845c79
DTSTART:20260607T220000Z
DTEND:20260612T220000Z
LOCATION:Localisation   
CATEGORIES:Sportif
STATUS:
DESCRIPTION:<h1>🌴🏃‍♂️ <b>OCEAN HOLIDAYS : TAMA MOANA
 DEBARQUE A FUTUNA !</b></h1>
 
 <p>📣 C'est une grande premiere et
 c'est pour vous, a <b>Futuna</b> ! L'association <b>Tama Moana</b>
 vous donne rendez-vous pour une semaine exceptionnelle d'activites
 aquatiques et sportives, du <b>8 au 12 juin</b>.</p>
 
 <p>Preparez vos
 enfants a vivre des "Vacances Ocean" inoubliables ou plaisir,
 apprentissage et securite sont les maitres-mots.</p>
 
 <h3>🌊 <b>AU
 PROGRAMME :</b></h3>
 
 <ul>
 	<li>
 	<p>🚀 <b>Decouverte du sauvetage
 sportif</b> (une exclusivite !)</p>
 	</li>
 	<li>
 	<p>🏊‍♀️
 <b>Apprendre a nager</b> (pour acquerir les
 bases)</p>
 	</li>
 	<li>
 	<p>✨ <b>Aisance aquatique</b> (pour etre a
 l'aise dans l'eau)</p>
 	</li>
 	<li>
 	<p>🎮 <b>Jeux autour du
 sauvetage</b> (pour apprendre en
 s'amusant)</p>
 	</li>
 	<li>
 	<p><strong>Decourverte du va'a a leava
 avec le club Avamoana</strong></p>
 	</li>
 </ul>
 
 <h3>📅 <b>LES
 INFOS CLES :</b></h3>
 
 <ul>
 	<li>
 	<p><b>Age :</b> De <b>4 ans a 17
 ans</b>.</p>
 	</li>
 	<li>
 	<p><b>Dates :</b> Du lundi 8 juin au
 vendredi 12 juin.</p>
 	</li>
 </ul>
 
 <p>🗺️ <b>Deux lieux
 d'accueil pour vous servir :</b></p>
 
 <ul>
 	<li>
 	<p>📍
 <b>LEAVA</b> : Le matin, de 8h a 11h30.</p>
 	</li>
 	<li>
 	<p>📍
 <b>VELE</b> : L'apres-midi, de 14h30 a
 17h.</p>
 	</li>
 </ul>
 
 <hr>
 <h3>📞 <b>INSCRIPTIONS ET CONTACTS
 :</b></h3>
 
 <p>Reservez vite la place de votre enfant :</p>
 
 <p>📲
 <b>Telephone :</b>  82 55 99]  <b>Email :</b>
 Tamamoanass@gmail.com 🔵 <b>Facebook :</b> Tama Moana</p>
 
 <p>Un
 grand merci a nos partenaires : <b>Futuna Animation</b> et <b>Ava
 Moana Futuna</b>.</p>
 
 <blockquote>
 <p><b>"Sauver pour le sport,
 nager pour la vie."</b> 🐢🏝️</p>
 </blockquote>
 
 <p>#TamaMoana
 #OceanHolidays #Futuna #SauvetageSportif #ApprendreANager
 #JeunesseFutuna #VacancesEte #FunaAnimation #AvaMoana</p>
URL;VALUE=URI:https://www.tamamoana.com/evenements/2026/06/08/centre-aeree-futuna-2444550
END:VEVENT
END:VCALENDAR
