BEGIN:VCALENDAR
VERSION:2.0
PRODID:-//hacksw/handcal//NONSGML v1.0//EN
BEGIN:VEVENT
SUMMARY:Koh-Lanta
UID:ac5044ab-f26e-4f75-aa7f-d36f9102702b
DTSTART:20260627T060000Z
DTEND:20260627T093000Z
LOCATION:Localisation   
CATEGORIES:Sportif
STATUS:
DESCRIPTION:<h1 style="text-align:center;">🌴 <b>KOH-LANTA :
 L'AVENTURE TAMA MOANA</b> 🌴</h1>
 
 <h3><b>EDITION SPECIALE
 ADHERENTS</b></h3>
 
 <p><b>Aventuriers, aventurieres, la sentence est
 irrevocable : le lagon vous appelle !</b></p>
 
 <p>Preparez-vous a
 vivre une matinee d'exception sur les ilots.</p>
 
 <p>Au programme :
 depassement de soi, cohesion d'equipe et defis autour du
 <b>sauvetage</b> et du <b>secourisme</b>.</p>
 
 <p>Serez-vous capables
 de proteger votre equipe tout en preservant notre environnement
 precieux ?</p>
 
 <p>Seuls les plus courageux repartiront avec le Totem
 !</p>
 
 <hr>
 <h3>📋 <b>INFOS PRATIQUES</b></h3>
 
 <ul>
 	<li>
 	<p>📍
 <b>Lieu :</b> Rendez-vous a vakal pour un depart en
 bateau.</p>
 	</li>
 	<li>
 	<p>🛶 <b>Securite :</b> Port du gilet de
 sauvetage obligatoire durant toute la
 traversee.</p>
 	</li>
 	<li>
 	<p>🛡️ <b>Acces :</b> Evenement
 strictement reserve aux <b>adherents a jour de leur
 cotisation</b>.</p>
 	</li>
 	<li>
 	<p>🎒 <b>A prevoir :</b> Votre
 lycra, gourde d'eau et protection
 solaire.</p>
 	</li>
 </ul>
 
 <p> </p>
 
 <p><b>"Dans le lagon, on ne
 survit pas seul, on sauve ensemble !"</b> <i>Protection de
 l'environnement – Sauvetage – Secourisme</i></p>
URL;VALUE=URI:https://www.tamamoana.com/evenements/2026/06/27/koh-lanta-2444548
END:VEVENT
END:VCALENDAR
